BEGIN:VCALENDAR
VERSION:2.0
PRODID:icalendar-ruby
CALSCALE:GREGORIAN
METHOD:PUBLISH
BEGIN:VEVENT
DTSTAMP:20260422T164350Z
UID:235-406809@manorgospel.com
DTSTART:20260706T150000Z
DTEND:20260717T180000Z
CLASS:PUBLIC
CREATED:20260417T110712
DESCRIPTION:Join us for Vacation Bible School this summer from July 6th to 
 July 10th!  At Manor we offer VBS from 9:00 a.m to 4:00 p.m each day (Fri
 day ends at lunch with a BBQ).  In the morning\, our adventurers will enj
 oy a traditional VBS program with crafts\, snacks\, singing and games.  E
 ach afternoon will be filled with a variety activities\, including a coupl
 e of field trips. More information on this to come soon.\nIn a world fille
 d with worry and confusion\, kids need to know there is a God who cares fo
 r them. At Emerald Crossing VBS\, they’ll journey through Ireland’s lu
 sh landscapes\, exploring the powerful words of Psalm 23. They’ll discov
 er the life of the shepherd-king David and will learn how to cross from an
 xiety to peace\, from fear to faith\, and from uncertainty to a firm found
 ation in God’s Word through a relationship with the Good Shepherd.\nThe 
 cost of the full day VBS is $50 per child.  Please e-transfer payment to 
 gifts@manorgospel.com upon registration.  If you would like to sign your 
 child up\, but cost is a concern\, please reach out to manorgospelchurchof
 fice@gmail as we do have some sponsored spots.\nSpots are limited\, and re
 gistration will open on Friday\, April 24th at 7:00 a.m.\n 
LAST-MODIFIED:20260417T110712
LOCATION:Manor Gospel Church
SUMMARY:Emerald Crossing VBS
URL;VALUE=URI:https://www.manorgospel.com/events/emerald-crossing-vbs/2026-
 07-06
ATTACH;FILENAME=emerald-crossing-SocialMedia-FacebookPost.jpg;FMTTYPE=image
 /jpeg:https://dq5pwpg1q8ru0.cloudfront.net/2026/04/17/17/07/12/890d1887-3f
 fe-42d3-bbcb-bfa1d52d2dfa/emerald-crossing-SocialMedia-FacebookPost.jpg
END:VEVENT
END:VCALENDAR
